BEGIN:VCALENDAR
VERSION:2.0
PRODID:-//Alvington Parish Council//Meeting Calendar//EN
CALSCALE:GREGORIAN
METHOD:PUBLISH
BEGIN:VEVENT
UID:70624-20250703@alvingtonparishcouncil.gov.uk
DTSTAMP:20260423T094028Z
DTSTART;VALUE=DATE:20250703
DTEND;VALUE=DATE:20250704
SUMMARY:Council Meeting &#8211\\; 3 July 2025
DESCRIPTION:Full Council Meeting\nView details: https://alvingtonparishcouncil.gov.uk/meetings/council-meeting-3-july-2025/
URL:https://alvingtonparishcouncil.gov.uk/meetings/council-meeting-3-july-2025/
END:VEVENT
END:VCALENDAR
