BEGIN:VCALENDAR
VERSION:2.0
PRODID:-//Alvington Parish Council//Meeting Calendar//EN
CALSCALE:GREGORIAN
METHOD:PUBLISH
BEGIN:VEVENT
UID:70632-20250605@alvingtonparishcouncil.gov.uk
DTSTAMP:20260423T081515Z
DTSTART;VALUE=DATE:20250605
DTEND;VALUE=DATE:20250606
SUMMARY:Council Meeting &#8211\\; 5 June 2025
DESCRIPTION:Full Council Meeting\nView details: https://alvingtonparishcouncil.gov.uk/meetings/council-meeting-5-june-2025/
URL:https://alvingtonparishcouncil.gov.uk/meetings/council-meeting-5-june-2025/
END:VEVENT
END:VCALENDAR
