BEGIN:VCALENDAR
VERSION:2.0
PRODID:-//Alvington Parish Council//Meeting Calendar//EN
CALSCALE:GREGORIAN
METHOD:PUBLISH
BEGIN:VEVENT
UID:70641-20250508@alvingtonparishcouncil.gov.uk
DTSTAMP:20260421T081308Z
DTSTART;VALUE=DATE:20250508
DTEND;VALUE=DATE:20250509
SUMMARY:Combined Annual and Full Council Meeting &#8211\\; 8 May 2025
DESCRIPTION:Annual Parish Meeting\nView details: https://alvingtonparishcouncil.gov.uk/meetings/combined-annual-and-full-council-meeting-8-may-2025/
URL:https://alvingtonparishcouncil.gov.uk/meetings/combined-annual-and-full-council-meeting-8-may-2025/
END:VEVENT
END:VCALENDAR
