BEGIN:VCALENDAR
VERSION:2.0
PRODID:-//Alvington Parish Council//Meeting Calendar//EN
CALSCALE:GREGORIAN
METHOD:PUBLISH
BEGIN:VEVENT
UID:70649-20250403@alvingtonparishcouncil.gov.uk
DTSTAMP:20260421T080918Z
DTSTART;VALUE=DATE:20250403
DTEND;VALUE=DATE:20250404
SUMMARY:Council Meeting &#8211\\; 3 April 2025
DESCRIPTION:Full Council Meeting\nView details: https://alvingtonparishcouncil.gov.uk/meetings/council-meeting-3-april-2025/
URL:https://alvingtonparishcouncil.gov.uk/meetings/council-meeting-3-april-2025/
END:VEVENT
END:VCALENDAR
